BEGIN:VCALENDAR
VERSION:2.0
PRODID:-//KiTa App - ECPv6.15.20//NONSGML v1.0//EN
CALSCALE:GREGORIAN
METHOD:PUBLISH
X-WR-CALNAME:KiTa App
X-ORIGINAL-URL:https://meine-kita-app-kinderkrippe-zwergenland.de
X-WR-CALDESC:Veranstaltungen für KiTa App
REFRESH-INTERVAL;VALUE=DURATION:PT1H
X-Robots-Tag:noindex
X-PUBLISHED-TTL:PT1H
BEGIN:VTIMEZONE
TZID:Europe/Berlin
BEGIN:DAYLIGHT
TZOFFSETFROM:+0100
TZOFFSETTO:+0200
TZNAME:CEST
DTSTART:20250330T010000
END:DAYLIGHT
BEGIN:STANDARD
TZOFFSETFROM:+0200
TZOFFSETTO:+0100
TZNAME:CET
DTSTART:20251026T010000
END:STANDARD
BEGIN:DAYLIGHT
TZOFFSETFROM:+0100
TZOFFSETTO:+0200
TZNAME:CEST
DTSTART:20260329T010000
END:DAYLIGHT
BEGIN:STANDARD
TZOFFSETFROM:+0200
TZOFFSETTO:+0100
TZNAME:CET
DTSTART:20261025T010000
END:STANDARD
BEGIN:DAYLIGHT
TZOFFSETFROM:+0100
TZOFFSETTO:+0200
TZNAME:CEST
DTSTART:20270328T010000
END:DAYLIGHT
BEGIN:STANDARD
TZOFFSETFROM:+0200
TZOFFSETTO:+0100
TZNAME:CET
DTSTART:20271031T010000
END:STANDARD
BEGIN:DAYLIGHT
TZOFFSETFROM:+0100
TZOFFSETTO:+0200
TZNAME:CEST
DTSTART:20280326T010000
END:DAYLIGHT
BEGIN:STANDARD
TZOFFSETFROM:+0200
TZOFFSETTO:+0100
TZNAME:CET
DTSTART:20281029T010000
END:STANDARD
END:VTIMEZONE
BEGIN:VEVENT
DTSTART;VALUE=DATE:20260515
DTEND;VALUE=DATE:20260516
DTSTAMP:20260420T120216
CREATED:20251007T055052Z
LAST-MODIFIED:20251007T055052Z
UID:435-1778803200-1778889599@meine-kita-app-kinderkrippe-zwergenland.de
SUMMARY:Kinderkrippe geschlossen
DESCRIPTION:Die Krippe ist am 15.05.2026 geschlossen.
URL:https://meine-kita-app-kinderkrippe-zwergenland.de/event/kinderkrippe-geschlossen-9/
END:VEVENT
BEGIN:VEVENT
DTSTART;VALUE=DATE:20260724
DTEND;VALUE=DATE:20260725
DTSTAMP:20260420T120216
CREATED:20251007T055147Z
LAST-MODIFIED:20251007T055147Z
UID:437-1784851200-1784937599@meine-kita-app-kinderkrippe-zwergenland.de
SUMMARY:Kinderkrippe geschlossen
DESCRIPTION:Die Krippe ist am 24.07.2026 geschlossen.
URL:https://meine-kita-app-kinderkrippe-zwergenland.de/event/kinderkrippe-geschlossen-10/
END:VEVENT
BEGIN:VEVENT
DTSTART;VALUE=DATE:20260727
DTEND;VALUE=DATE:20260808
DTSTAMP:20260420T120216
CREATED:20251007T055252Z
LAST-MODIFIED:20251007T055252Z
UID:439-1785110400-1786147199@meine-kita-app-kinderkrippe-zwergenland.de
SUMMARY:Kinderkrippe geschlossen
DESCRIPTION:Die Krippe ist vom 27.07. – 07.08.2026 geschlossen.
URL:https://meine-kita-app-kinderkrippe-zwergenland.de/event/kinderkrippe-geschlossen-11/
END:VEVENT
BEGIN:VEVENT
DTSTART;VALUE=DATE:20261221
DTEND;VALUE=DATE:20270104
DTSTAMP:20260420T120216
CREATED:20251007T055404Z
LAST-MODIFIED:20251007T055404Z
UID:441-1797811200-1799020799@meine-kita-app-kinderkrippe-zwergenland.de
SUMMARY:Kinderkrippe geschlossen
DESCRIPTION:Die Krippe ist vom 21.12.2026 – 03.01.2027 geschlossen.
URL:https://meine-kita-app-kinderkrippe-zwergenland.de/event/kinderkrippe-geschlossen-12/
END:VEVENT
END:VCALENDAR